Workbook

Sheet Funding Request Form
A1: APAC Funding Request Form (Training/Workshops/Seminars)
A2: (APAC FFIN-003 Issue 1 Ver 1.0)
A3: Version of this proposal:
A4: Date: | B4: xx xxx 20xx
A6: Proposer
A7: Name of the proposer/organiser:
A8: Position:
A9: Organization:
A10: Contact number:
A11: Email:
A13: Proposal summary
A14: Title of proposed activity:
A15: Type of activity (e.g. training course):
A16: Duration and Proposed dates:
A17: Venue (site, city, country):
A18: Host:
... A34: Financial summary (please complete the Budget worksheet) - amounts in Australian dollars (AUD)
A35: Total expenditure | B35: =SUM(Budget!F66) -> 0
A36: Funded by
A37: External Donor | B37: =SUM(Budget!G66) -> 0
A38: APAC | B38: =SUM(Budget!H66) -> 0
A39: Host | B39: =SUM(Budget!I66) -> 0
A40: Self-funded | B40: =SUM(Budget!J66) -> 0
A41: Total funding | B41: =SUM(Budget!K66) -> 0
A42: Balance | B42: =SUM(Budget!L66) -> 0

Sheet Requirements
A1: Requirements
A2: Hosts of APAC events are to make arrangements that will fulfil the following requirements.
A4: Event and registration website
A5: Information and registration for APAC events is normally undertaken through an event website set up by the APAC Secretariat in advance of the event. The host shall assist in this process but providing relevant information to the APAC Secretariat regarding the venue and location of the event, accommodation options (possibly with discounted or special rates for participants), visa processes, transport options and directions to and from the airport and accommodation, and other relevant local information (such as expected temperatures, electrical plug information, dress codes, cultural instructions, etc.). Once registrations are closed on the website the APAC Secretariat will provide the host with a list of accepted participants and the host shall prepare the daily attendance signing-sheet based on that list. The host's own personnel that will particpate in the event will also need to register via the event website. At the end of the event an online survey will be sent to all registrants. The completed signing sheet must be sent back to Secretariat for recording purposes.
A7: Venue and equipment
A8: The venue needs to be sufficiently large for the expected number of participants. The layout (e.g. classroom style, banqueting style, U-shaped, boardroom etc) must be agreed in advance with the trainers/facilitators. A separate table and chairs are required for the trainers/faciltators with easy access to the presentation equipment.
A9: The training room should ideally have natural light, have climate control (air conditioning or heating as relevant), ventilation, and be away from areas that can provide distractions or difficulties in hearing the presentations and associated discussions (e.g. away from lobbies, reception areas, kitchens and dining areas).
A10: The equipment and other items that need to be set up and tested as working in the training room before the training session begins include:
A11: a) Emergency and evacuation procedures;
A12: b) Confirmation of the security arrangements for the event, especially in relation to control of access and securing the room during breaks;
A13: c) Adequate number of tables and chairs (including some surplus chairs, and extra table if possible) arranged as agreed;
A14: d) Power boards at each table so all participants may plug in their laptops;
... A64: For multi-day events, the host may wish to host a dinner on one of the nights but this would normally be at the host's own expense. Where psossible, any dinner should not be on the night of arrival or the last night after the event is completed given the potential for some particpants to be suffering jet-lag or departing immediately after the event is concluded.

Sheet Budget
A1: Event Budget | B1: Version: | F1: IMPORTANT:
B2: Date: | F2: All figures are to be in Australian dollars (AUD) and include all relevant taxes
A4: Item | B4: Organizer | C4: Paid by | D4: Expenditure (Australian dollars (AUD)) | G4: Funding (Australian Dollars (AUD)) | L4: Balance
D5: Unit cost | E5: # of units | F5: Total | G5: Donor | H5: APAC | I5: Host | J5: Self-funded | K5: Total
A7: Labour charges
A8: Trainer / Speaker / Facilitator 1 (Name: xxxxx) | B8: xx AB | F8: =SUM(D8*E8) -> 0 | G8: 0 | H8: 0 | I8: 0 | J8: 0 | K8: =SUM(G8:J8) -> 0 | L8: =SUM(K8-F8) -> 0
A9: Trainer / Speaker / Facilitator 2 (Name: xxxxx) | B9: xx AB | F9: =SUM(D9*E9) -> 0 | G9: 0 | H9: 0 | I9: 0 | K9: =SUM(G9:J9) -> 0 | L9: =SUM(K9-F9) -> 0
A10: Trainer / Speaker / Facilitator 3 (Name: xxxxx) | F10: =SUM(D10*E10) -> 0 | G10: 0 | H10: 0 | I10: 0 | J10: 0 | K10: =SUM(G10:J10) -> 0 | L10: =SUM(K10-F10) -> 0
A11: Translation services | F11: =SUM(D11*E11) -> 0 | G11: 0 | H11: 0 | I11: 0 | J11: 0 | K11: =SUM(G11:J11) -> 0 | L11: =SUM(K11-F11) -> 0
A12: Secretarial assistance | F12: =SUM(D12*E12) -> 0 | G12: 0 | H12: 0 | I12: 0 | J12: 0 | K12: =SUM(G12:J12) -> 0 | L12: =SUM(K12-F12) -> 0
A13: Other (e.g. photographer) Please specify: | F13: =SUM(D13*E13) -> 0 | G13: 0 | H13: 0 | I13: 0 | J13: 0 | K13: =SUM(G13:J13) -> 0 | L13: =SUM(K13-F13) -> 0
A14: Subtotal | F14: =SUM(F8:F13) -> 0 | G14: =SUM(G8:G13) -> 0 | H14: =SUM(H8:H13) -> 0 | I14: =SUM(I8:I13) -> 0 | J14: =SUM(J8:J13) -> 0 | K14: =SUM(K8:K13) -> 0 | L14: =SUM(L8:L13) -> 0
A16: Participant and speaker expenditure
A18: Donor (e.g. PTB, APEC project) funded
A19: Flights | F19: =SUM(D19*E19) -> 0 | H19: 0 | I19: 0 | J19: 0 | K19: =SUM(G19:J19) -> 0 | L19: =SUM(K19-F19) -> 0
A20: Airport transfers | F20: =SUM(D20*E20) -> 0 | H20: 0 | I20: 0 | J20: 0 | K20: =SUM(G20:J20) -> 0 | L20: =SUM(K20-F20) -> 0
A21: Accommodation | F21: =SUM(D21*E21) -> 0 | H21: 0 | I21: 0 | J21: 0 | K21: =SUM(G21:J21) -> 0 | L21: =SUM(K21-F21) -> 0
A22: Daily allowance | F22: =SUM(D22*E22) -> 0 | H22: 0 | I22: 0 | J22: 0 | K22: =SUM(G22:J22) -> 0 | L22: =SUM(K22-F22) -> 0
A23: Subtotal | F23: =SUM(F19:F22) -> 0 | H23: =SUM(H19:H22) -> 0 | I23: =SUM(I19:I22) -> 0 | J23: =SUM(J19:J22) -> 0 | K23: =SUM(G23:J23) -> 0 | L23: =SUM(L19:L22) -> 0
A25: APAC funded
A26: Flights | D26: 0 | E26: 0 | F26: =SUM(D26*E26) -> 0 | G26: 0 | H26: 0 | I26: 0 | J26: 0 | K26: =SUM(G26:J26) -> 0 | L26: =SUM(K26-F26) -> 0
A27: Airport transfers | D27: 0 | E27: 0 | F27: =SUM(D27*E27) -> 0 | G27: 0 | H27: 0 | I27: 0 | J27: 0 | K27: =SUM(G27:J27) -> 0 | L27: =SUM(K27-F27) -> 0
A28: Accommodation | D28: 0 | E28: 0 | F28: =SUM(D28*E28) -> 0 | G28: 0 | H28: 0 | I28: 0 | J28: 0 | K28: =SUM(G28:J28) -> 0 | L28: =SUM(K28-F28) -> 0
A29: Daily allowance | D29: 0 | E29: 0 | F29: =SUM(D29*E29) -> 0 | G29: 0 | H29: 0 | I29: 0 | J29: 0 | K29: =SUM(G29:J29) -> 0 | L29: =SUM(K29-F29) -> 0
A30: Subtotal | F30: =SUM(F26:F29) -> 0 | G30: =SUM(G26:G29) -> 0 | H30: =SUM(H26:H29) -> 0 | I30: =SUM(I26:I29) -> 0 | J30: =SUM(J26:J29) -> 0 | K30: =SUM(G30:J30) -> 0 | L30: =SUM(L26:L29) -> 0
A32: Host funded
A33: Flights | D33: 0 | F33: =SUM(D33*E33) -> 0 | G33: 0 | H33: 0 | I33: 0 | J33: 0 | K33: =SUM(G33:J33) -> 0 | L33: =SUM(K33-F33) -> 0
A34: Airport transfers | D34: 0 | E34: 0 | F34: =SUM(D34*E34) -> 0 | G34: 0 | H34: 0 | I34: 0 | J34: 0 | K34: =SUM(G34:J34) -> 0 | L34: =SUM(K34-F34) -> 0
A35: Accommodation | D35: 0 | E35: 0 | F35: =SUM(D35*E35) -> 0 | G35: 0 | H35: 0 | I35: 0 | J35: 0 | K35: =SUM(G35:J35) -> 0 | L35: =SUM(K35-F35) -> 0
A36: Daily allowance | D36: 0 | E36: 0 | F36: =SUM(D36*E36) -> 0 | G36: 0 | H36: 0 | I36: 0 | J36: 0 | K36: =SUM(G36:J36) -> 0 | L36: =SUM(K36-F36) -> 0
A37: Subtotal | F37: =SUM(F33:F36) -> 0 | G37: =SUM(G33:G36) -> 0 | H37: =SUM(H33:H36) -> 0 | I37: =SUM(I33:I36) -> 0 | J37: =SUM(J33:J36) -> 0 | K37: =SUM(G37:J37) -> 0 | L37: =SUM(L33:L36) -> 0
A39: Self funded
A40: Flights | D40: 0 | E40: 0 | F40: =SUM(D40*E40) -> 0 | G40: 0 | H40: 0 | I40: 0 | J40: 0 | K40: =SUM(G40:J40) -> 0 | L40: =SUM(K40-F40) -> 0
A41: Airport transfers | D41: 0 | E41: 0 | F41: =SUM(D41*E41) -> 0 | G41: 0 | H41: 0 | I41: 0 | J41: 0 | K41: =SUM(G41:J41) -> 0 | L41: =SUM(K41-F41) -> 0
A42: Accommodation | D42: 0 | E42: 0 | F42: =SUM(D42*E42) -> 0 | G42: 0 | H42: 0 | I42: 0 | J42: 0 | K42: =SUM(G42:J42) -> 0 | L42: =SUM(K42-F42) -> 0
A43: Daily allowance | D43: 0 | E43: 0 | F43: =SUM(D43*E43) -> 0 | G43: 0 | H43: 0 | I43: 0 | J43: 0 | K43: =SUM(G43:J43) -> 0 | L43: =SUM(K43-F43) -> 0
A44: Subtotal | F44: =SUM(F40:F43) -> 0 | G44: =SUM(G40:G43) -> 0 | H44: =SUM(H40:H43) -> 0 | I44: =SUM(I40:I43) -> 0 | J44: =SUM(J40:J43) -> 0 | K44: =SUM(G44:J44) -> 0 | L44: =SUM(L40:L43) -> 0
A46: Training materials
A47: Name badges | F47: =SUM(D47*E47) -> 0 | G47: 0 | H47: 0 | J47: 0 | K47: =SUM(G47:J47) -> 0 | L47: =SUM(K47-F47) -> 0
A48: Photocopying | F48: =SUM(D48*E48) -> 0 | G48: 0 | H48: 0 | J48: 0 | K48: =SUM(G48:J48) -> 0 | L48: =SUM(K48-F48) -> 0
...

Sheet Timetable
A1: Event Timetable
A2: Task | C2: Person responsbile | D2: Due date
A3: Host confirmed | B3: 26 weeks before | C3: XXX Committee Chair
A4: Host confirms venue and dates | B4: 20 weeks before | C4: Host
A5: Speakers identified | B5: 20 weeks before | C5: XXX Committee Chair
A6: Speakers confirmed | B6: 16 weeks before | C6: XXX Committee Chair
A7: Information for registration website confirmed by host | B7: 14 weeks before | C7: Host
A8: Registration website released | B8: 12 weeks before | C8: APAC Secretary
A9: Funded registration close | B9: 6 weeks before | C9: Participants
A10: General registration close | B10: 4 weeks before | C10: Participants
A11: Training materials completed and submitted to host | B11: 3 weeks before | C11: Speakers
A12: Training packs completed | B12: 1 week before | C12: Host
A13: Event start date | C13: Host
A14: Event end date | C14: Host
A15: Attendance certificates issued | B15: Last day | C15: Host
A16: Online feedback survey opened | B16: Last day | C16: APAC Secretary
A17: Particpant list sent to APAC Secretariat | B17: 1 week after | C17: Host
A18: Online feedback survey closed | B18: 2 weeks after | C18: APAC Secretary
A19: Online feedback survey reported | B19: 3 weeks after | C19: APAC Secretary
A20: Donor reports completed by host and participants | B20: 4 weeks after | C20: Host / Participants
